BEGIN:VCALENDAR
VERSION:2.0
PRODID:-//ChamberMaster//Event Calendar 2.0//EN
METHOD:PUBLISH
X-PUBLISHED-TTL:P3D
REFRESH-INTERVAL:P3D
CALSCALE:GREGORIAN
BEGIN:VEVENT
DTSTART:20210917T200000Z
DTEND:20210917T210000Z
X-MICROSOFT-CDO-ALLDAYEVENT:FALSE
SUMMARY:Queen Me Glam Bar Ribbon Cutting
DESCRIPTION:Join us for the grand opening and ribbon cutting for Queen Me Glam Bar!
X-ALT-DESC;FMTTYPE=text/html:Join us for the grand opening and ribbon cutting for Queen Me Glam Bar!
LOCATION:1009 North Madison Avenue Douglas\, GA 31533
UID:e.458.3084
SEQUENCE:3
DTSTAMP:20260419T180504Z
URL:https://business.coffeegachamber.com/events/details/queen-me-glam-bar-ribbon-cutting-3084
END:VEVENT

END:VCALENDAR
