BEGIN:VCALENDAR
VERSION:2.0
PRODID:-//ChamberMaster//Event Calendar 2.0//EN
METHOD:PUBLISH
X-PUBLISHED-TTL:P3D
REFRESH-INTERVAL:P3D
CALSCALE:GREGORIAN
BEGIN:VEVENT
DTSTART:20211204T230000Z
DTEND:20211205T000000Z
X-MICROSOFT-CDO-ALLDAYEVENT:FALSE
SUMMARY:Festival of Lights Christmas Parade
DESCRIPTION:The 2021 Christmas Parade Theme is "A Christmas to Remember."\n\n\n\nRegister at this link: https://docs.google.com/forms/d/e/1FAIpQLSeM_Y8d_Ne5KT_CDyuvxM8YApPqk_GtDfOsABLxvJYBsBryqw/viewform\n\n\n\n\n\nTo ensure the safety and quality of the annual Christmas parade\, each application is reviewed to determine acceptance.\n\nApplication Due: Wednesday\, November 24\, 2021\n\nApplicants Notified of Acceptance: Monday\, November 29\, 2021\n\n2021 Theme: A Christmas to Remember
X-ALT-DESC;FMTTYPE=text/html:The 2021 Christmas Parade Theme is &quot\;A Christmas to Remember.&quot\;<br />\n<br />\nRegister at this link:&nbsp\;https://docs.google.com/forms/d/e/1FAIpQLSeM_Y8d_Ne5KT_CDyuvxM8YApPqk_GtDfOsABLxvJYBsBryqw/viewform<br />\n<br />\n<br />\n<span style="color: rgb(32\, 33\, 36)\; font-family: Roboto\, Arial\, sans-serif\; font-size: 14px\; letter-spacing: 0.2px\; white-space: pre-wrap\;">To ensure the safety and quality of the annual Christmas parade\, each application is reviewed to determine acceptance.</span><br style="color: rgb(32\, 33\, 36)\; font-family: Roboto\, Arial\, sans-serif\; font-size: 14px\; letter-spacing: 0.2px\; white-space: pre-wrap\;" />\n<span style="color: rgb(32\, 33\, 36)\; font-family: Roboto\, Arial\, sans-serif\; font-size: 14px\; letter-spacing: 0.2px\; white-space: pre-wrap\;">Application Due: Wednesday\, November 24\, 2021</span><br style="color: rgb(32\, 33\, 36)\; font-family: Roboto\, Arial\, sans-serif\; font-size: 14px\; letter-spacing: 0.2px\; white-space: pre-wrap\;" />\n<span style="color: rgb(32\, 33\, 36)\; font-family: Roboto\, Arial\, sans-serif\; font-size: 14px\; letter-spacing: 0.2px\; white-space: pre-wrap\;">Applicants Notified of Acceptance: Monday\, November 29\, 2021</span><br style="color: rgb(32\, 33\, 36)\; font-family: Roboto\, Arial\, sans-serif\; font-size: 14px\; letter-spacing: 0.2px\; white-space: pre-wrap\;" />\n<span style="color: rgb(32\, 33\, 36)\; font-family: Roboto\, Arial\, sans-serif\; font-size: 14px\; letter-spacing: 0.2px\; white-space: pre-wrap\;">2021 Theme: A Christmas to Remember </span><br style="color: rgb(32\, 33\, 36)\; font-family: Roboto\, Arial\, sans-serif\; font-size: 14px\; letter-spacing: 0.2px\; white-space: pre-wrap\;" />\n&nbsp\;
LOCATION:Peterson Avenue\, Douglas\, GA 31533
UID:e.458.3089
SEQUENCE:3
DTSTAMP:20260425T192923Z
URL:https://business.coffeegachamber.com/events/details/festival-of-lights-christmas-parade-3089
END:VEVENT

END:VCALENDAR
