BEGIN:VCALENDAR
VERSION:2.0
PRODID:-//ChamberMaster//Event Calendar 2.0//EN
METHOD:PUBLISH
X-PUBLISHED-TTL:P3D
REFRESH-INTERVAL:P3D
CALSCALE:GREGORIAN
BEGIN:VEVENT
DTSTART:20210915T130000Z
DTEND:20210915T160000Z
X-MICROSOFT-CDO-ALLDAYEVENT:FALSE
SUMMARY:Coffee Strong Job Fair
DESCRIPTION:Join us for a Coffee Strong Job Fair!
X-ALT-DESC;FMTTYPE=text/html:Join us for a Coffee Strong Job Fair!&nbsp\;
LOCATION:Atrium Event Center 114 Peterson Avenue\, Basement Level Enter the double doors. You will find stairs immediately to your left or an elevator forward and to the left. Take the elevator or stairs down to the first floor (basement level).
UID:e.458.3086
SEQUENCE:3
DTSTAMP:20260419T180403Z
URL:https://business.coffeegachamber.com/events/details/coffee-strong-job-fair-3086
END:VEVENT

END:VCALENDAR
