BEGIN:VCALENDAR
VERSION:2.0
PRODID:-//ChamberMaster//Event Calendar 2.0//EN
METHOD:PUBLISH
X-PUBLISHED-TTL:P3D
REFRESH-INTERVAL:P3D
CALSCALE:GREGORIAN
BEGIN:VEVENT
DTSTART;VALUE=DATE:20211201
DTEND;VALUE=DATE:20211202
TRANSP:TRANSPARENT
X-MICROSOFT-CDO-ALLDAYEVENT:TRUE
SUMMARY:Coffee Ambassador Applications Due
DESCRIPTION:Applications for the Coffee Ambassador Program are due December 1\, 2021. To find out more about the program click here. To view the application click here.
X-ALT-DESC;FMTTYPE=text/html:Applications for the Coffee Ambassador Program are due December 1\, 2021. To find out more about the program<a href="https://docs.google.com/document/d/1AAtPnU5InAfMJrgHy35GscvYSqkiLiIhQGX-g_AnQ6M/edit"> click here.</a> To view the application <a href="https://docs.google.com/forms/d/e/1FAIpQLSev-ilNSFV53B2Zoo2ZsZ5-efHnMMc6U33DNQxhA3ugIDEmyw/viewform">click here</a>.
LOCATION:
UID:e.458.3087
SEQUENCE:3
DTSTAMP:20260425T193930Z
URL:https://business.coffeegachamber.com/events/details/coffee-ambassador-applications-due-3087
END:VEVENT

END:VCALENDAR
