BEGIN:VCALENDAR
VERSION:2.0
PRODID:-//ChamberMaster//Event Calendar 2.0//EN
METHOD:PUBLISH
X-PUBLISHED-TTL:P3D
REFRESH-INTERVAL:P3D
CALSCALE:GREGORIAN
BEGIN:VEVENT
DTSTART:19800101T050000Z
DTEND:19800101T050000Z
X-MICROSOFT-CDO-ALLDAYEVENT:FALSE
SUMMARY:Chamber Focus
DESCRIPTION:
X-ALT-DESC;FMTTYPE=text/html:
LOCATION:
UID:e.458.44
SEQUENCE:3
DTSTAMP:20260424T234706Z
URL:https://business.coffeegachamber.com/events/details/chamber-focus-01-01-1980-44
END:VEVENT

END:VCALENDAR
