BEGIN:VCALENDAR
VERSION:2.0
PRODID:-//ChamberMaster//Event Calendar 2.0//EN
METHOD:PUBLISH
X-PUBLISHED-TTL:P3D
REFRESH-INTERVAL:P3D
CALSCALE:GREGORIAN
BEGIN:VEVENT
DTSTART:20211106T120000Z
DTEND:20211106T190000Z
X-MICROSOFT-CDO-ALLDAYEVENT:FALSE
SUMMARY:Broxton Chicken Livers and Gizzards Festival
DESCRIPTION:Annual Street Fair and Parade
X-ALT-DESC;FMTTYPE=text/html:Annual Street Fair and Parade
LOCATION:Hwy 441 in Broxton
UID:e.458.3091
SEQUENCE:3
DTSTAMP:20260419T145306Z
URL:https://business.coffeegachamber.com/events/details/broxton-chicken-livers-and-gizzards-festival-3091
END:VEVENT

END:VCALENDAR
