BEGIN:VCALENDAR
VERSION:2.0
PRODID:-//ChamberMaster//Event Calendar 2.0//EN
METHOD:PUBLISH
X-PUBLISHED-TTL:P3D
REFRESH-INTERVAL:P3D
CALSCALE:GREGORIAN
BEGIN:VEVENT
DTSTART:20241005T130000Z
DTEND:20241005T200000Z
X-MICROSOFT-CDO-ALLDAYEVENT:FALSE
SUMMARY:5th Annual Gopher Tortoise Festival
DESCRIPTION:Join us for the 5th Annual Gopher Tortoise Festival in Downtown Douglas on the first weekend in October! Enjoy 80+ arts and crafts vendors\, festival food\, kids activities\, live music\, and downtown shopping! Be sure to get your tickets to the Mark Wills concert at the Martin Theater after the festival!\n\nPark in the central square gym parking lot and come on over!
X-ALT-DESC;FMTTYPE=text/html:Join us for the 5th Annual Gopher Tortoise Festival in Downtown Douglas on the first weekend in October! Enjoy 80+ arts and crafts vendors\, festival food\, kids activities\, live music\, and downtown shopping! Be sure to get your tickets to the Mark Wills concert at the Martin Theater after the festival!<br />\nPark in the central square gym parking lot and come on over!
LOCATION:DOWNTOWN DOUGLAS Central Square Plaza
UID:e.458.3259
SEQUENCE:3
DTSTAMP:20260422T084329Z
URL:https://business.coffeegachamber.com/events/details/5th-annual-gopher-tortoise-festival-3259
END:VEVENT

END:VCALENDAR
